BEGIN:VCALENDAR
VERSION:2.0
PRODID:-//GBTK - ECPv6.15.20//NONSGML v1.0//EN
CALSCALE:GREGORIAN
METHOD:PUBLISH
X-WR-CALNAME:GBTK
X-ORIGINAL-URL:https://gbtk.dk
X-WR-CALDESC:Begivenheder for GBTK
REFRESH-INTERVAL;VALUE=DURATION:PT1H
X-Robots-Tag:noindex
X-PUBLISHED-TTL:PT1H
BEGIN:VTIMEZONE
TZID:Europe/Copenhagen
BEGIN:DAYLIGHT
TZOFFSETFROM:+0100
TZOFFSETTO:+0200
TZNAME:CEST
DTSTART:20230326T010000
END:DAYLIGHT
BEGIN:STANDARD
TZOFFSETFROM:+0200
TZOFFSETTO:+0100
TZNAME:CET
DTSTART:20231029T010000
END:STANDARD
BEGIN:DAYLIGHT
TZOFFSETFROM:+0100
TZOFFSETTO:+0200
TZNAME:CEST
DTSTART:20240331T010000
END:DAYLIGHT
BEGIN:STANDARD
TZOFFSETFROM:+0200
TZOFFSETTO:+0100
TZNAME:CET
DTSTART:20241027T010000
END:STANDARD
BEGIN:DAYLIGHT
TZOFFSETFROM:+0100
TZOFFSETTO:+0200
TZNAME:CEST
DTSTART:20250330T010000
END:DAYLIGHT
BEGIN:STANDARD
TZOFFSETFROM:+0200
TZOFFSETTO:+0100
TZNAME:CET
DTSTART:20251026T010000
END:STANDARD
BEGIN:DAYLIGHT
TZOFFSETFROM:+0100
TZOFFSETTO:+0200
TZNAME:CEST
DTSTART:20260329T010000
END:DAYLIGHT
BEGIN:STANDARD
TZOFFSETFROM:+0200
TZOFFSETTO:+0100
TZNAME:CET
DTSTART:20261025T010000
END:STANDARD
BEGIN:DAYLIGHT
TZOFFSETFROM:+0100
TZOFFSETTO:+0200
TZNAME:CEST
DTSTART:20270328T010000
END:DAYLIGHT
BEGIN:STANDARD
TZOFFSETFROM:+0200
TZOFFSETTO:+0100
TZNAME:CET
DTSTART:20271031T010000
END:STANDARD
END:VTIMEZONE
BEGIN:VEVENT
DTSTART;VALUE=DATE:20260124
DTEND;VALUE=DATE:20260126
DTSTAMP:20260421T211144
CREATED:20250902T195959Z
LAST-MODIFIED:20250902T195959Z
UID:1864-1769212800-1769385599@gbtk.dk
SUMMARY:Herlev Hjorten
DESCRIPTION:Herlev Hjorten rk. A-B
URL:https://gbtk.dk/begivenheder/herlev-hjorten/
LOCATION:Herlev/Hjorten Badminton\, Skinderskovvej 31\, Herlev\, 2730
CATEGORIES:Motionist aktivitetskalender,Turnering
END:VEVENT
BEGIN:VEVENT
DTSTART;VALUE=DATE:20260124
DTEND;VALUE=DATE:20260126
DTSTAMP:20260421T211144
CREATED:20250902T195719Z
LAST-MODIFIED:20250902T195719Z
UID:1860-1769212800-1769385599@gbtk.dk
SUMMARY:Helsinge
DESCRIPTION:Helsinge rk. C-D
URL:https://gbtk.dk/begivenheder/helsinge/
LOCATION:Helsinge badminton\, Idrætsvej 21\, Helsinge\, 3200\, Denmark
CATEGORIES:Motionist aktivitetskalender,Turnering
ORGANIZER;CN="Helsinge Badminton":MAILTO:kontakt@helsinge-badminton.dk
END:VEVENT
BEGIN:VEVENT
DTSTART;VALUE=DATE:20260117
DTEND;VALUE=DATE:20260119
DTSTAMP:20260421T211144
CREATED:20250902T195427Z
LAST-MODIFIED:20250902T195427Z
UID:1856-1768608000-1768780799@gbtk.dk
SUMMARY:Regionsmesterskaber Værløse
DESCRIPTION:Regionsmesterskaber Værløse rk. A-B-C-D
URL:https://gbtk.dk/begivenheder/regionsmesterskaber-vaerloese/
LOCATION:Værløse Badminton\, Stiager 8\, Værløse\, 3500\, Denmark
CATEGORIES:Motionist aktivitetskalender,Turnering
ORGANIZER;CN="V%C3%A6rl%C3%B8se Badminton":MAILTO:kontor@badminton-vb.dk
END:VEVENT
BEGIN:VEVENT
DTSTART;VALUE=DATE:20260103
DTEND;VALUE=DATE:20260105
DTSTAMP:20260421T211144
CREATED:20250902T194701Z
LAST-MODIFIED:20250902T194712Z
UID:1853-1767398400-1767571199@gbtk.dk
SUMMARY:Slangerup
DESCRIPTION:Slangerup rk. B-C-D
URL:https://gbtk.dk/begivenheder/slangerup/
LOCATION:Slangerup Badminton\, Idrætsvej 5\, Slangerup\, 3550\, Denmark
CATEGORIES:Motionist aktivitetskalender,Turnering
ORGANIZER;CN="Slangerup Badminton":MAILTO:kontakt@slangerup-badminton.dk
END:VEVENT
BEGIN:VEVENT
DTSTART;VALUE=DATE:20251117
DTEND;VALUE=DATE:20251119
DTSTAMP:20260421T211144
CREATED:20250821T060140Z
LAST-MODIFIED:20250821T060324Z
UID:1696-1763337600-1763510399@gbtk.dk
SUMMARY:Hal1 lukket pga. valg
DESCRIPTION:Følgende dage vil der være lukket i hal 1 grundet valg.
URL:https://gbtk.dk/begivenheder/lukket-pga-valg/
CATEGORIES:Motionist aktivitetskalender,Ungdom aktivitetskalender
END:VEVENT
BEGIN:VEVENT
DTSTART;VALUE=DATE:20251115
DTEND;VALUE=DATE:20251117
DTSTAMP:20260421T211144
CREATED:20250902T194609Z
LAST-MODIFIED:20251020T081042Z
UID:1851-1763164800-1763337599@gbtk.dk
SUMMARY:Cuppen på Toppen
DESCRIPTION:Cuppen på Toppen ( Hjemme turnering) B-C-D
URL:https://gbtk.dk/begivenheder/cuppen-paa-toppen-3/
LOCATION:Gribskovhallen\, Larsensvej 15B\, Græsted\, 3230\, Danmark
CATEGORIES:Motionist aktivitetskalender,Turnering
ORGANIZER;CN="GBTK Cuppen p%C3%A5 toppen":MAILTO:tina69bruun@gmail.com
END:VEVENT
BEGIN:VEVENT
DTSTART;TZID=Europe/Copenhagen:20251025T080000
DTEND;TZID=Europe/Copenhagen:20251026T200000
DTSTAMP:20260421T211144
CREATED:20241030T135204Z
LAST-MODIFIED:20241030T135204Z
UID:1470-1761379200-1761508800@gbtk.dk
SUMMARY:Halloween Cup 2025
DESCRIPTION:Kære motionist/veteran \nTurneringen Halloween Cup er tilbage i Frederikssund Badminton Klub og ligger som tidligere sidste weekend i oktober\, dvs. 25-26. oktober 2025. \nTidligere deltagere vil måske huske den som Vikingeturneringen og i hvert fald huske den gode stemning og de gode præmier 🙂 \nSå sæt kryds i kalenderen og del meget gerne med dit netværk. Invitation udsendes i løbet af september og vil også kunne findes på vores Facebook side
URL:https://gbtk.dk/begivenheder/halloween-cup-2025/
LOCATION:Frederikssund Hallerne\, Kalvøvej 13\, Frederikssund\, 3600\, Denmark
CATEGORIES:Motionist aktivitetskalender,Turnering
END:VEVENT
BEGIN:VEVENT
DTSTART;VALUE=DATE:20251025
DTEND;VALUE=DATE:20251027
DTSTAMP:20260421T211144
CREATED:20250902T194509Z
LAST-MODIFIED:20250902T194509Z
UID:1849-1761350400-1761523199@gbtk.dk
SUMMARY:Halloween Cup. Fr\,sund
DESCRIPTION:Halloween Cup. Fr\,sund
URL:https://gbtk.dk/begivenheder/halloween-cup-frsund/
LOCATION:Frederikssund Hallerne\, Kalvøvej 13\, Frederikssund\, 3600\, Denmark
CATEGORIES:Motionist aktivitetskalender,Turnering
END:VEVENT
BEGIN:VEVENT
DTSTART;VALUE=DATE:20251011
DTEND;VALUE=DATE:20251013
DTSTAMP:20260421T211144
CREATED:20250902T194412Z
LAST-MODIFIED:20250902T194412Z
UID:1845-1760140800-1760313599@gbtk.dk
SUMMARY:Slangerup Turnering
DESCRIPTION:Slangerup Turnering
URL:https://gbtk.dk/begivenheder/slangerup-turnering/
LOCATION:Slangerup Badminton\, Idrætsvej 5\, Slangerup\, 3550\, Denmark
CATEGORIES:Motionist aktivitetskalender,Turnering
ORGANIZER;CN="Slangerup Badminton":MAILTO:kontakt@slangerup-badminton.dk
END:VEVENT
BEGIN:VEVENT
DTSTART;TZID=Europe/Copenhagen:20250816T150000
DTEND;TZID=Europe/Copenhagen:20250816T220000
DTSTAMP:20260421T211144
CREATED:20241030T135418Z
LAST-MODIFIED:20241030T135418Z
UID:1476-1755356400-1755381600@gbtk.dk
SUMMARY:Opstartsfest Motion
DESCRIPTION:
URL:https://gbtk.dk/begivenheder/opstartsfest-motion/
CATEGORIES:Motionist aktivitetskalender
ORGANIZER;CN="GBTK Motionist":MAILTO:HGH3230@mail.dk
END:VEVENT
BEGIN:VEVENT
DTSTART;TZID=Europe/Copenhagen:20250531T080000
DTEND;TZID=Europe/Copenhagen:20250531T170000
DTSTAMP:20260421T211144
CREATED:20241030T135535Z
LAST-MODIFIED:20241030T135552Z
UID:1480-1748678400-1748710800@gbtk.dk
SUMMARY:Afslutningshygge
DESCRIPTION:
URL:https://gbtk.dk/begivenheder/afslutningshygge/
LOCATION:Gribskovhallen\, Larsensvej 15B\, Græsted\, 3230\, Danmark
CATEGORIES:Motionist aktivitetskalender
ORGANIZER;CN="GBTK Motionist":MAILTO:HGH3230@mail.dk
END:VEVENT
BEGIN:VEVENT
DTSTART;TZID=Europe/Copenhagen:20250510T080000
DTEND;TZID=Europe/Copenhagen:20250510T170000
DTSTAMP:20260421T211144
CREATED:20241030T135505Z
LAST-MODIFIED:20241030T135505Z
UID:1478-1746864000-1746896400@gbtk.dk
SUMMARY:Klubmesterskaber  Motion
DESCRIPTION:
URL:https://gbtk.dk/begivenheder/klubmesterskaber-motion/
LOCATION:Gribskovhallen\, Larsensvej 15B\, Græsted\, 3230\, Danmark
CATEGORIES:Motionist aktivitetskalender
ORGANIZER;CN="GBTK Motionist":MAILTO:HGH3230@mail.dk
END:VEVENT
BEGIN:VEVENT
DTSTART;TZID=Europe/Copenhagen:20250307T160000
DTEND;TZID=Europe/Copenhagen:20250307T193000
DTSTAMP:20260421T211144
CREATED:20250213T121605Z
LAST-MODIFIED:20250213T121832Z
UID:1591-1741363200-1741375800@gbtk.dk
SUMMARY:PIZZAAFTEN - Fredag d. 7. marts kl. 16:00-19:30
DESCRIPTION:Pizzaaften 07-03-2025
URL:https://gbtk.dk/begivenheder/pizzaaften-fredag-d-7-marts-kl-1600-1930/
CATEGORIES:Ungdom aktivitetskalender
END:VEVENT
BEGIN:VEVENT
DTSTART;TZID=Europe/Copenhagen:20250301T080000
DTEND;TZID=Europe/Copenhagen:20250302T170000
DTSTAMP:20260421T211144
CREATED:20241030T135248Z
LAST-MODIFIED:20241030T135248Z
UID:1472-1740816000-1740934800@gbtk.dk
SUMMARY:Værløse Pool Cup
DESCRIPTION:
URL:https://gbtk.dk/begivenheder/vaerloese-pool-cup/
CATEGORIES:Motionist aktivitetskalender,Turnering
END:VEVENT
BEGIN:VEVENT
DTSTART;TZID=Europe/Copenhagen:20250122T201500
DTEND;TZID=Europe/Copenhagen:20250122T220000
DTSTAMP:20260421T211144
CREATED:20241030T134948Z
LAST-MODIFIED:20241030T134948Z
UID:1467-1737576900-1737583200@gbtk.dk
SUMMARY:Fællesspisning i hallen
DESCRIPTION:Der vil være tilmeldingsseddel i “glasskabet / opslagsskabet” i hallen
URL:https://gbtk.dk/begivenheder/faellesspisning-i-hallen-2/
LOCATION:Gribskovhallen\, Larsensvej 15B\, Græsted\, 3230\, Danmark
CATEGORIES:Motionist aktivitetskalender
END:VEVENT
BEGIN:VEVENT
DTSTART;TZID=Europe/Copenhagen:20250118T080000
DTEND;TZID=Europe/Copenhagen:20250119T170000
DTSTAMP:20260421T211144
CREATED:20241030T135327Z
LAST-MODIFIED:20241030T135327Z
UID:1474-1737187200-1737306000@gbtk.dk
SUMMARY:Værløse Regionsmesterskaber
DESCRIPTION:
URL:https://gbtk.dk/begivenheder/vaerloese-regionsmesterskaber/
CATEGORIES:Motionist aktivitetskalender,Turnering
END:VEVENT
BEGIN:VEVENT
DTSTART;TZID=Europe/Copenhagen:20241216T173000
DTEND;TZID=Europe/Copenhagen:20241216T220000
DTSTAMP:20260421T211144
CREATED:20241106T143653Z
LAST-MODIFIED:20241106T143822Z
UID:1483-1734370200-1734386400@gbtk.dk
SUMMARY:Julefrokost 2024
DESCRIPTION:Så er tiden snart så tæt på\, at vi også skal tænke på vores årlige julehygge. \nI år vil det foregå lidt anderledes\, hvor vi starter med Gløgg og Æbleskiver kl. 17.30-18.00 \nSå er der også plads til buffen senere🥸 \nFå jer tilmeldt i hallen og kom og få endnu en hyggelig aften i klubben \nPris: Medl.. kr. 100\,- Påhæng.. kr. 140\,- \nHent invitation her: Julefrokost 2024
URL:https://gbtk.dk/begivenheder/julefrokost-2024/
LOCATION:Gribskovhallen\, Larsensvej 15B\, Græsted\, 3230\, Danmark
CATEGORIES:Motionist aktivitetskalender
ORGANIZER;CN="GBTK Motionist":MAILTO:HGH3230@mail.dk
END:VEVENT
BEGIN:VEVENT
DTSTART;TZID=Europe/Copenhagen:20241120T201500
DTEND;TZID=Europe/Copenhagen:20241120T220000
DTSTAMP:20260421T211144
CREATED:20241030T134726Z
LAST-MODIFIED:20241030T135006Z
UID:1464-1732133700-1732140000@gbtk.dk
SUMMARY:Fællesspisning i hallen
DESCRIPTION:Der vil være tilmeldingsseddel i “glasskabet / opslagsskabet” i hallen
URL:https://gbtk.dk/begivenheder/faellesspisning-i-hallen/
LOCATION:Gribskovhallen\, Larsensvej 15B\, Græsted\, 3230\, Danmark
CATEGORIES:Motionist aktivitetskalender
END:VEVENT
BEGIN:VEVENT
DTSTART;TZID=Europe/Copenhagen:20241117T070000
DTEND;TZID=Europe/Copenhagen:20241117T200000
DTSTAMP:20260421T211144
CREATED:20240905T090457Z
LAST-MODIFIED:20240905T090457Z
UID:1354-1731826800-1731873600@gbtk.dk
SUMMARY:Cuppen på Toppen
DESCRIPTION:Cuppen på Toppen i Græsted 2024 \nKom og få en hyggelig weekend i fjerboldens tegn. \nBadminton turnering for Motionister/Senior i Herre\, Dame og mixdouble i række A-B-C-D. \nGBTK Motionist/Senior turnering i Græsted \nInvitation Cuppen på Toppen 2024 Info flyer. \nKiosken/Tutten har åben og her kan købes lækre flæskestegs sandwich\, lasagne\, toast m.m Kaffe\, the\, Øl\, sodavand og vand. samt et mindre udvalg af slik. 
URL:https://gbtk.dk/begivenheder/cuppen-paa-toppen-2/
LOCATION:Gribskovhallen\, Larsensvej 15B\, Græsted\, 3230\, Danmark
CATEGORIES:Motionist aktivitetskalender,Turnering
ORGANIZER;CN="GBTK Motionist":MAILTO:HGH3230@mail.dk
END:VEVENT
BEGIN:VEVENT
DTSTART;TZID=Europe/Copenhagen:20241116T070000
DTEND;TZID=Europe/Copenhagen:20241116T200000
DTSTAMP:20260421T211144
CREATED:20240905T085953Z
LAST-MODIFIED:20240905T090410Z
UID:1348-1731740400-1731787200@gbtk.dk
SUMMARY:Cuppen på Toppen
DESCRIPTION:Cuppen på Toppen i Græsted 2024 \nKom og få en hyggelig weekend i fjerboldens tegn. \nBadminton turnering for Motionister/Senior i Herre\, Dame og mixdouble i række A-B-C-D. \nGBTK Motionist/Senior turnering i Græsted \nInvitation Cuppen på Toppen 2024 Info flyer. \nKiosken/Tutten har åben og her kan købes lækre flæskestegs sandwich\, lasagne\, toast m.m Kaffe\, the\, Øl\, sodavand og vand. samt et mindre udvalg af slik. 
URL:https://gbtk.dk/begivenheder/cuppen-paa-toppen/
LOCATION:Gribskovhallen\, Larsensvej 15B\, Græsted\, 3230\, Danmark
CATEGORIES:Motionist aktivitetskalender,Turnering
ORGANIZER;CN="GBTK Motionist":MAILTO:HGH3230@mail.dk
END:VEVENT
BEGIN:VEVENT
DTSTART;TZID=Europe/Copenhagen:20241027T080000
DTEND;TZID=Europe/Copenhagen:20241027T200000
DTSTAMP:20260421T211144
CREATED:20240905T084121Z
LAST-MODIFIED:20241002T054908Z
UID:1344-1730016000-1730059200@gbtk.dk
SUMMARY:Halloween Cup
DESCRIPTION:Kære motionist/veteran \nTurneringen Halloween Cup er tilbage i Frederikssund Badminton Klub og ligger som tidligere sidste weekend i oktober\, dvs. 26.-27. oktober 2024. \nTidligere deltagere vil måske huske den som Vikingeturneringen og i hvert fald huske den gode stemning og de gode præmier 🙂 \nSå sæt kryds i kalenderen og del meget gerne med dit netværk. Invitation udsendes i løbet af september og vil også kunne findes på vores Facebook side \nLink til invitationen: Invitation HalloweenCup2024.pdf
URL:https://gbtk.dk/begivenheder/halloween-cup-2/
LOCATION:Frederikssund Hallerne\, Kalvøvej 13\, Frederikssund\, 3600\, Denmark
CATEGORIES:Motionist aktivitetskalender,Turnering
END:VEVENT
BEGIN:VEVENT
DTSTART;TZID=Europe/Copenhagen:20241026T080000
DTEND;TZID=Europe/Copenhagen:20241026T200000
DTSTAMP:20260421T211144
CREATED:20240905T084103Z
LAST-MODIFIED:20241002T054839Z
UID:1341-1729929600-1729972800@gbtk.dk
SUMMARY:Halloween Cup
DESCRIPTION:Kære motionist/veteran \nTurneringen Halloween Cup er tilbage i Frederikssund Badminton Klub og ligger som tidligere sidste weekend i oktober\, dvs. 26.-27. oktober 2024. \nTidligere deltagere vil måske huske den som Vikingeturneringen og i hvert fald huske den gode stemning og de gode præmier 🙂 \nSå sæt kryds i kalenderen og del meget gerne med dit netværk. Invitation udsendes i løbet af september og vil også kunne findes på vores Facebook side \nLink til invitationen: Invitation HalloweenCup2024.pdf \n 
URL:https://gbtk.dk/begivenheder/halloween-cup/
LOCATION:Frederikssund Hallerne\, Kalvøvej 13\, Frederikssund\, 3600\, Denmark
CATEGORIES:Motionist aktivitetskalender,Turnering
END:VEVENT
BEGIN:VEVENT
DTSTART;TZID=Europe/Copenhagen:20241011T080000
DTEND;TZID=Europe/Copenhagen:20241014T170000
DTSTAMP:20260421T211144
CREATED:20240905T135556Z
LAST-MODIFIED:20240905T135556Z
UID:1417-1728633600-1728925200@gbtk.dk
SUMMARY:Årets Klubtur – Smashercup 2024 på Bornholm
DESCRIPTION:
URL:https://gbtk.dk/begivenheder/aarets-klubtur-smashercup-2024-paa-bornholm/
CATEGORIES:Ungdom aktivitetskalender
END:VEVENT
BEGIN:VEVENT
DTSTART;TZID=Europe/Copenhagen:20240920T170000
DTEND;TZID=Europe/Copenhagen:20240920T210000
DTSTAMP:20260421T211144
CREATED:20240905T135402Z
LAST-MODIFIED:20240905T135402Z
UID:1415-1726851600-1726866000@gbtk.dk
SUMMARY:Åben hal + pizzaaften
DESCRIPTION:
URL:https://gbtk.dk/begivenheder/aaben-hal-pizzaaften/
LOCATION:Gribskovhallen\, Larsensvej 15B\, Græsted\, 3230\, Danmark
CATEGORIES:Ungdom aktivitetskalender
END:VEVENT
END:VCALENDAR